BEGIN:VCALENDAR
VERSION:2.0
PRODID:-//hacksw/handcal//NONSGML v1.0//EN
BEGIN:VEVENT
SUMMARY:SAMBAD TOUR 2015
UID:44fc5123-844c-4ef9-b42c-25fa2c806e2d
DTSTART:20150116T230000Z
DTEND:20150118T230000Z
LOCATION:Localisation   
CATEGORIES:Sportif
STATUS:
DESCRIPTION:<p style="color:rgb(40,40,40);font-family:Arial,
 sans-serif;">Tournoi de L'ASBAD 87 ouvert aux  Elite A,B,C,D,NC,
 Simple Double et mixte</p>
 
 <p
 style="color:rgb(40,40,40);font-family:Arial,
 sans-serif;">Inscription jusqu'au 03/01/15 inclus</p>
 
 <p
 style="color:rgb(40,40,40);font-family:Arial, sans-serif;">ATTENTION
 SI LE NOMBRE DE PARTICIPANTS EXTERIEURES EST TROP IMPORTANT NOUS
 POURRONS LIMITER OU SUPPRIMER DES TABLEAUX D'INSCRIPTIONS DANS LES
 CATEGORIES SURCHARGEES</p>
 
 <p
 style="color:rgb(40,40,40);font-family:Arial, sans-serif;">AFIN
 D'ASSURER LE BON DEROULEMENT DU TOURNOI NOUS DEMANDONS A CHAQUE
 MEMBRE DU CLUB INSCRIT SUR LA COMPETITION D'APPORTER SON AIDE SUR LES
 DIFFERENTS GYMNASES (Voir lien d'inscription)</p>
 
 <p
 style="color:rgb(40,40,40);font-family:Arial,
 sans-serif;"><span>Merci de passer uniquement par le lien suivant
 pour votre inscription:</span></p>
 
 <p
 style="color:rgb(40,40,40);font-family:Arial, sans-serif;"><a
 href="https://docs.google.com/forms/d/1T4iUjAgbaUDxycQtWhyDh1D77Ce9g3TbmPKN_jTV-M0/viewform?usp=send_form"
 target="_blank" rel="noreferrer
 noopener">https://docs.google.com/forms/d/1T4iUjAgbaUDxycQtWhyDh1D77Ce9g3TbmPKN_jTV-M0/viewform?usp=send_form</a></p>
 
 <p
 style="color:rgb(40,40,40);font-family:Arial, sans-serif;"><span>Pour
 toutes infos complementaires vous pouvez envoyer un message a
 asbad87_inscription_tournoi@yahoo.fr</span></p>
URL;VALUE=URI:https://www.asbad87.com/evenements/2015/01/17/sambad-tour-2015-551926
END:VEVENT
END:VCALENDAR
