BEGIN:VCALENDAR
VERSION:2.0
PRODID:-//hacksw/handcal//NONSGML v1.0//EN
BEGIN:VEVENT
SUMMARY:SAM VOIT DOUBLE
UID:db3ede54-a549-43ac-8b34-272534c1a828
DTSTART:20160617T220000Z
DTEND:20160619T220000Z
LOCATION:Localisation   
CATEGORIES:Sportif
STATUS:
DESCRIPTION:<p>Tournoi de Double et Mixte de L' ASBAD87 le 18/19
 JUIN</p>
 
 <p>Tableau de serie de jeu suivant le CPPH</p>
 
 <p>Date de
 limite d'inscription le 01/06</p>
 
 <p>!!!!!!!!!!!! ATTENTION RAPPEL
 !!!!!!!!!!!!!!!!</p>
 
 <p>COMME D'HABITUDE SUR NOTRE TOURNOI EN CAS
 D'UN TROP GRAND NOMBRE D'INSCRITS LES JOUEURS EXT AURONT LA PRIORITE
 SUR LES JOUEURS DU CLUB. </p>
 
 <p><a
 href="https://docs.google.com/forms/d/1Q4kf_4B4ZhgvqSN0SAf0rN2cP66XdkjHuOZdInR-Zjs/viewform"
 target="_blank" rel="noreferrer
 noopener">Formulaire</a></p>
 
 <p> </p>
URL;VALUE=URI:https://www.asbad87.com/evenements/2016/06/18/sam-voit-double-757762
END:VEVENT
END:VCALENDAR
