BEGIN:VCALENDAR
VERSION:2.0
PRODID:-//hacksw/handcal//NONSGML v1.0//EN
BEGIN:VEVENT
SUMMARY:TOURNOI JEUNES ET VETERANS
UID:480a9a61-4ee1-47fd-b6f1-16b7a71abf42
DTSTART:20170512T220000Z
DTEND:20170514T220000Z
LOCATION:Localisation   
CATEGORIES:Sportif
STATUS:
DESCRIPTION:<p><strong>L’ASBAD 87</strong> est heureuse de vous
 inviter a participer a son tournoi jeunes et veterans qui aura lieu
 les</p>
 
 <p><strong>13 et 14 Mai 2017 a
 Limoges.</strong></p>
 
 <p>                              
 Les series representees
 sont :</p>
 
 <ul>
 	<li>Serie: poussins, benjamins, minimes, cadets
 et veterans.</li>
 </ul>
 
 <p>                           
    Avec pour chaque serie :</p>
 
 <ul>
 	<li>Simples ,Doubles et
 Mixtes pour les jeunes. </li>
 	<li>uniquement Doubles et Mixtes pour
 les Veterans.</li>
 </ul>
 
 <p><a
 href="https://admin.sportsregions.fr/media/uploaded/sites/351/kcupload/files/invt%20jeune%202017.pdf"
 target="_blank" rel="noreferrer noopener"><font
 color="#0066cc">plaquette</font></a></p>
 
 <p><a
 href="https://admin.sportsregions.fr/media/uploaded/sites/351/kcupload/files/reglement%20jeune%2013-14%2005%202017.pdf"
 target="_blank" rel="noreferrer noopener"><font
 color="#0066cc">reglement</font></a></p>
 
 <p><a
 href="https://docs.google.com/forms/d/e/1FAIpQLSdbuwnihflp4zUWVXbtARI5sOpsYChRU5da2pH_45FSRuphaA/viewform?usp=sf_link"
 target="_blank" rel="noreferrer
 noopener">inscription</a></p>
 
 <p> </p>
URL;VALUE=URI:https://www.asbad87.com/evenements/2017/05/13/tournoi-jeunes-et-veterans-920714
END:VEVENT
END:VCALENDAR
