BEGIN:VCALENDAR
VERSION:2.0
PRODID:-//hacksw/handcal//NONSGML v1.0//EN
BEGIN:VEVENT
SUMMARY:SAMBAD TOUR 2018
UID:c4791907-c1e6-4861-9eec-9f4ecc670228
DTSTART:20180209T230000Z
DTEND:20180211T230000Z
LOCATION:Localisation   
CATEGORIES:Sportif
STATUS:
DESCRIPTION:<p>L’ASBAD 87 LIMOGES est heureuse d’inviter tous les
 badistes a son 30eme tournoi national senior les 10 et 11 fevrier
 2018.</p>
 
 <p>Situe a moins de 3h de Bordeaux, Clermont-Ferrand,
 Toulouse, Tours, Bourges et Niort et moins de 4h de Paris, Lyon et
 Nantes, ce tournoi souhaite accueillir un maximum de joueurs venus de
 regions differentes et se rencontrant rarement. Pour se faire, nous
 ouvrons notre tournoi de NC a N1 a partir de la categorie
 minime.</p>
 
 <p>Informations principales sur le tournoi :<br>
 –
 Tableaux proposes : simple et mixte (samedi), double
 (dimanche)<br>
 – Series proposees : N1-N2, N3-R4, R5-R6, D7-D8,
 D9-P10, P11-P12-NC.<br>
 – Inscriptions sur 2 tableaux possibles
 (simple ou mixte + double) a l’exception des classes N1-N2 qui
 peuvent s’inscrire sur les 3 tableaux de N1-N2.</p>
 
 <p>Afin que
 notre buvette soit remplie tout au long du weekend, chaque joueur
 inscrit devra se mettre au fourneau et  ramener un plat de son choix
 :p</p>
 
 <p><a
 href="https://admin.sportsregions.fr/media/uploaded/sites/351/kcupload/files/Plaquette%20sambad%20f%C3%A9vrier%202018.pdf"
 target="_blank" rel="noreferrer noopener">plaquette
 tournoi</a></p>
 
 <p><a
 href="https://admin.sportsregions.fr/media/uploaded/sites/351/kcupload/files/R%C3%A9glement%20SAMBAD%20TOUR%20f%C3%A9vrier%202018.pdf"
 target="_blank" rel="noreferrer noopener">reglement
 tournoi</a></p>
 
 <p>date limite d'inscriptions fixee au <span
 style="color:#ff0000;"><u><strong>10/01/18</strong></u></span> par le
 lien suivant: <a href="https://goo.gl/forms/pcstrxgpLXl9l7d32"
 target="_blank" rel="noreferrer
 noopener">https://goo.gl/forms/pcstrxgpLXl9l7d32</a></p>
 
 <p> </p>
URL;VALUE=URI:https://www.asbad87.com/evenements/2018/02/10/sambad-tour-2018-1020266
END:VEVENT
END:VCALENDAR
